BEGIN:VCALENDAR
VERSION:2.0
PRODID:-//jEvents 2.0 for Joomla//EN
CALSCALE:GREGORIAN
METHOD:PUBLISH
BEGIN:VTIMEZONE
TZID:America/New_York
BEGIN:STANDARD
DTSTART:20221113T183000
RDATE:20230312T030000
TZOFFSETFROM:-0400
TZOFFSETTO:-0500
TZNAME:America/New_York EST
END:STANDARD
BEGIN:STANDARD
DTSTART:20231105T010000
RDATE:20240310T030000
TZOFFSETFROM:-0400
TZOFFSETTO:-0500
TZNAME:America/New_York EST
END:STANDARD
BEGIN:STANDARD
DTSTART:20241103T010000
RDATE:20250309T030000
TZOFFSETFROM:-0400
TZOFFSETTO:-0500
TZNAME:America/New_York EST
END:STANDARD
BEGIN:STANDARD
DTSTART:20251102T010000
RDATE:20260308T030000
TZOFFSETFROM:-0400
TZOFFSETTO:-0500
TZNAME:America/New_York EST
END:STANDARD
BEGIN:STANDARD
DTSTART:20261101T010000
RDATE:20270314T030000
TZOFFSETFROM:-0400
TZOFFSETTO:-0500
TZNAME:America/New_York EST
END:STANDARD
BEGIN:STANDARD
DTSTART:20271107T010000
RDATE:20280312T030000
TZOFFSETFROM:-0400
TZOFFSETTO:-0500
TZNAME:America/New_York EST
END:STANDARD
BEGIN:DAYLIGHT
DTSTART:20230312T030000
RDATE:20231105T010000
TZOFFSETFROM:-0500
TZOFFSETTO:-0400
TZNAME:America/New_York EDT
END:DAYLIGHT
BEGIN:DAYLIGHT
DTSTART:20240310T030000
RDATE:20241103T010000
TZOFFSETFROM:-0500
TZOFFSETTO:-0400
TZNAME:America/New_York EDT
END:DAYLIGHT
BEGIN:DAYLIGHT
DTSTART:20250309T030000
RDATE:20251102T010000
TZOFFSETFROM:-0500
TZOFFSETTO:-0400
TZNAME:America/New_York EDT
END:DAYLIGHT
BEGIN:DAYLIGHT
DTSTART:20260308T030000
RDATE:20261101T010000
TZOFFSETFROM:-0500
TZOFFSETTO:-0400
TZNAME:America/New_York EDT
END:DAYLIGHT
BEGIN:DAYLIGHT
DTSTART:20270314T030000
RDATE:20271107T010000
TZOFFSETFROM:-0500
TZOFFSETTO:-0400
TZNAME:America/New_York EDT
END:DAYLIGHT
END:VTIMEZONE
BEGIN:VEVENT
UID:a6050a472a825525f39a71e449573ec6
CATEGORIES:Meetings
CREATED:20230919T150357
SUMMARY:November 2023 Monthly Meeting
DESCRIPTION:This monthly meeting will be held on November 14th, 2023 at 6:30pm at the S
 chool Library. All Georgia community members are welcome to attend.\nThe ag
 enda for this meeting can be found here (https://docs.google.com/document/d
 /1kG7mvlwwY04996eXeMzmYpfkqvzjF3X9/).\nThe minutes from this meeting can be
  found here (https://docs.google.com/document/d/1ETNWHHsoMTB1MowNPwFYbsODrm
 Oyu_9Zst3DD2YRlS4/edit?usp=drive_link).\n \n
X-ALT-DESC;FMTTYPE=text/html:<p>This monthly meeting will be held on <strong>November 14th, 2023</strong
 > at <strong>6:30pm</strong> at the<strong> School Library</strong>. All Ge
 orgia community members are welcome to attend.</p><p>The agenda for this me
 eting can be found <a href="https://docs.google.com/document/d/1kG7mvlwwY04
 996eXeMzmYpfkqvzjF3X9/">here</a>.</p><p>The minutes from this meeting can b
 e found <a href="https://docs.google.com/document/d/1ETNWHHsoMTB1MowNPwFYbs
 ODrmOyu_9Zst3DD2YRlS4/edit?usp=drive_link">here</a>.</p><p>&nbsp;</p>
DTSTAMP:20260423T100328
DTSTART;TZID=America/New_York:20231114T183000
DTEND;TZID=America/New_York:20231114T200000
SEQUENCE:0
TRANSP:OPAQUE
END:VEVENT
END:VCALENDAR