BEGIN:VCALENDAR
VERSION:2.0
PRODID:-//jEvents 2.0 for Joomla//EN
CALSCALE:GREGORIAN
METHOD:PUBLISH
BEGIN:VTIMEZONE
TZID:America/New_York
BEGIN:STANDARD
DTSTART:20200216T183000
RDATE:20200308T030000
TZOFFSETFROM:-0400
TZOFFSETTO:-0500
TZNAME:America/New_York EST
END:STANDARD
BEGIN:STANDARD
DTSTART:20201101T010000
RDATE:20210314T030000
TZOFFSETFROM:-0400
TZOFFSETTO:-0500
TZNAME:America/New_York EST
END:STANDARD
BEGIN:STANDARD
DTSTART:20211107T010000
RDATE:20220313T030000
TZOFFSETFROM:-0400
TZOFFSETTO:-0500
TZNAME:America/New_York EST
END:STANDARD
BEGIN:STANDARD
DTSTART:20221106T010000
RDATE:20230312T030000
TZOFFSETFROM:-0400
TZOFFSETTO:-0500
TZNAME:America/New_York EST
END:STANDARD
BEGIN:STANDARD
DTSTART:20231105T010000
RDATE:20240310T030000
TZOFFSETFROM:-0400
TZOFFSETTO:-0500
TZNAME:America/New_York EST
END:STANDARD
BEGIN:STANDARD
DTSTART:20241103T010000
RDATE:20250309T030000
TZOFFSETFROM:-0400
TZOFFSETTO:-0500
TZNAME:America/New_York EST
END:STANDARD
BEGIN:STANDARD
DTSTART:20251102T010000
RDATE:20260308T030000
TZOFFSETFROM:-0400
TZOFFSETTO:-0500
TZNAME:America/New_York EST
END:STANDARD
BEGIN:STANDARD
DTSTART:20261101T010000
RDATE:20270314T030000
TZOFFSETFROM:-0400
TZOFFSETTO:-0500
TZNAME:America/New_York EST
END:STANDARD
BEGIN:STANDARD
DTSTART:20271107T010000
RDATE:20280312T030000
TZOFFSETFROM:-0400
TZOFFSETTO:-0500
TZNAME:America/New_York EST
END:STANDARD
BEGIN:DAYLIGHT
DTSTART:20200308T030000
RDATE:20201101T010000
TZOFFSETFROM:-0500
TZOFFSETTO:-0400
TZNAME:America/New_York EDT
END:DAYLIGHT
BEGIN:DAYLIGHT
DTSTART:20210314T030000
RDATE:20211107T010000
TZOFFSETFROM:-0500
TZOFFSETTO:-0400
TZNAME:America/New_York EDT
END:DAYLIGHT
BEGIN:DAYLIGHT
DTSTART:20220313T030000
RDATE:20221106T010000
TZOFFSETFROM:-0500
TZOFFSETTO:-0400
TZNAME:America/New_York EDT
END:DAYLIGHT
BEGIN:DAYLIGHT
DTSTART:20230312T030000
RDATE:20231105T010000
TZOFFSETFROM:-0500
TZOFFSETTO:-0400
TZNAME:America/New_York EDT
END:DAYLIGHT
BEGIN:DAYLIGHT
DTSTART:20240310T030000
RDATE:20241103T010000
TZOFFSETFROM:-0500
TZOFFSETTO:-0400
TZNAME:America/New_York EDT
END:DAYLIGHT
BEGIN:DAYLIGHT
DTSTART:20250309T030000
RDATE:20251102T010000
TZOFFSETFROM:-0500
TZOFFSETTO:-0400
TZNAME:America/New_York EDT
END:DAYLIGHT
BEGIN:DAYLIGHT
DTSTART:20260308T030000
RDATE:20261101T010000
TZOFFSETFROM:-0500
TZOFFSETTO:-0400
TZNAME:America/New_York EDT
END:DAYLIGHT
BEGIN:DAYLIGHT
DTSTART:20270314T030000
RDATE:20271107T010000
TZOFFSETFROM:-0500
TZOFFSETTO:-0400
TZNAME:America/New_York EDT
END:DAYLIGHT
END:VTIMEZONE
BEGIN:VEVENT
UID:8729c974a4056f1b5cf60c3d2f07f416
CATEGORIES:Meetings
CREATED:20210127T135318
SUMMARY:February PTCO Monthly Meeting
DESCRIPTION:<p>This monthly meeting will be held on February 16th, 2021 at 6:30pm. All 
 Georgia community members are welcome to attend. <joomla-hidden-mail  is-li
 nk="1" is-email="0" first="Z2VvcmdpYXB0Y28=" last="Z21haWwuY29tP3N1YmplY3Q9
 UmVxdWVzdCUyMGZvciUyMEZlYnJ1YXJ5JTIwTWVldGluZyUyMExpbms=" text="U2VuZCB1cyB
 hbiBlbWFpbA==" base="" >This email address is being protected from spambots
 . You need JavaScript enabled to view it.</joomla-hidden-mail> to receive t
 he link for accessing this online video conference.</p><p><a href="images/a
 genda-pdf/february-2021-ptco-agenda.pdf">Agenda for this meeting</a></p><p>
 Edit: <a href="images/minutes-pdf/february-2021-ptco-minutes.pdf">Here's th
 e minutes from that meeting</a></p>
X-ALT-DESC;FMTTYPE=text/html:<p>This monthly meeting will be held on February 16th, 2021 at 6:30pm. All 
 Georgia community members are welcome to attend. <joomla-hidden-mail  is-li
 nk="1" is-email="0" first="Z2VvcmdpYXB0Y28=" last="Z21haWwuY29tP3N1YmplY3Q9
 UmVxdWVzdCUyMGZvciUyMEZlYnJ1YXJ5JTIwTWVldGluZyUyMExpbms=" text="U2VuZCB1cyB
 hbiBlbWFpbA==" base="" >This email address is being protected from spambots
 . You need JavaScript enabled to view it.</joomla-hidden-mail> to receive t
 he link for accessing this online video conference.</p><p><a href="https://
 georgiaptco.com/images/agenda-pdf/february-2021-ptco-agenda.pdf">Agenda for
  this meeting</a></p><p>Edit: <a href="https://georgiaptco.com/images/minut
 es-pdf/february-2021-ptco-minutes.pdf">Here's the minutes from that meeting
 </a></p>
CONTACT:This email address is being protected from spambots. You need JavaScript enabled to view it.
DTSTAMP:20260423T082937
DTSTART;TZID=America/New_York:20210216T183000
DTEND;TZID=America/New_York:20210216T200000
SEQUENCE:0
TRANSP:OPAQUE
END:VEVENT
END:VCALENDAR